BEGIN:VCALENDAR
VERSION:2.0
PRODID:-//WEA Children&#039;s Network - ECPv6.15.20//NONSGML v1.0//EN
CALSCALE:GREGORIAN
METHOD:PUBLISH
X-ORIGINAL-URL:https://children.worldea.org
X-WR-CALDESC:Events for WEA Children&#039;s Network
REFRESH-INTERVAL;VALUE=DURATION:PT1H
X-Robots-Tag:noindex
X-PUBLISHED-TTL:PT1H
BEGIN:VTIMEZONE
TZID:America/New_York
BEGIN:DAYLIGHT
TZOFFSETFROM:-0500
TZOFFSETTO:-0400
TZNAME:EDT
DTSTART:20220313T070000
END:DAYLIGHT
BEGIN:STANDARD
TZOFFSETFROM:-0400
TZOFFSETTO:-0500
TZNAME:EST
DTSTART:20221106T060000
END:STANDARD
BEGIN:DAYLIGHT
TZOFFSETFROM:-0500
TZOFFSETTO:-0400
TZNAME:EDT
DTSTART:20230312T070000
END:DAYLIGHT
BEGIN:STANDARD
TZOFFSETFROM:-0400
TZOFFSETTO:-0500
TZNAME:EST
DTSTART:20231105T060000
END:STANDARD
BEGIN:DAYLIGHT
TZOFFSETFROM:-0500
TZOFFSETTO:-0400
TZNAME:EDT
DTSTART:20240310T070000
END:DAYLIGHT
BEGIN:STANDARD
TZOFFSETFROM:-0400
TZOFFSETTO:-0500
TZNAME:EST
DTSTART:20241103T060000
END:STANDARD
END:VTIMEZONE
BEGIN:VEVENT
DTSTART;TZID=America/New_York:20230704T080000
DTEND;TZID=America/New_York:20230704T103000
DTSTAMP:20260422T011224
CREATED:20230304T163510Z
LAST-MODIFIED:20230304T163510Z
UID:2609-1688457600-1688466600@children.worldea.org
SUMMARY:[Webinar Series 2023] Included in Church and Mission
DESCRIPTION:This webinar will unpack the main themes of the sixth and seventh chapters of the book\, exploring the ways in which the church can ensure children are included in church\, and affirmed in their role in mission. Discover more about God’s Heart for Children\, and its place in your own ministry by joining this six-part webinar series throughout 2023.
URL:https://children.worldea.org/event/webinar-series-2023-included-in-church-and-mission/
LOCATION:Online
END:VEVENT
END:VCALENDAR