BEGIN:VCALENDAR
VERSION:2.0
PRODID:-//WEA Children&#039;s Network - ECPv6.15.20//NONSGML v1.0//EN
CALSCALE:GREGORIAN
METHOD:PUBLISH
X-WR-CALNAME:WEA Children&#039;s Network
X-ORIGINAL-URL:https://children.worldea.org
X-WR-CALDESC:Events for WEA Children&#039;s Network
REFRESH-INTERVAL;VALUE=DURATION:PT1H
X-Robots-Tag:noindex
X-PUBLISHED-TTL:PT1H
BEGIN:VTIMEZONE
TZID:America/New_York
BEGIN:DAYLIGHT
TZOFFSETFROM:-0500
TZOFFSETTO:-0400
TZNAME:EDT
DTSTART:20220313T070000
END:DAYLIGHT
BEGIN:STANDARD
TZOFFSETFROM:-0400
TZOFFSETTO:-0500
TZNAME:EST
DTSTART:20221106T060000
END:STANDARD
BEGIN:DAYLIGHT
TZOFFSETFROM:-0500
TZOFFSETTO:-0400
TZNAME:EDT
DTSTART:20230312T070000
END:DAYLIGHT
BEGIN:STANDARD
TZOFFSETFROM:-0400
TZOFFSETTO:-0500
TZNAME:EST
DTSTART:20231105T060000
END:STANDARD
BEGIN:DAYLIGHT
TZOFFSETFROM:-0500
TZOFFSETTO:-0400
TZNAME:EDT
DTSTART:20240310T070000
END:DAYLIGHT
BEGIN:STANDARD
TZOFFSETFROM:-0400
TZOFFSETTO:-0500
TZNAME:EST
DTSTART:20241103T060000
END:STANDARD
END:VTIMEZONE
BEGIN:VEVENT
DTSTART;TZID=America/New_York:20230509T080000
DTEND;TZID=America/New_York:20230509T103000
DTSTAMP:20260422T035620
CREATED:20230304T162844Z
LAST-MODIFIED:20230304T162844Z
UID:2604-1683619200-1683628200@children.worldea.org
SUMMARY:[Webinar Series 2023] Community Advocacy and Care
DESCRIPTION:This webinar will unpack the main themes of the third and fourth chapters of the book\, exploring the ways in which the church can ensure children are cared for in community\, and advocated for in society. Discover more about God’s Heart for Children\, and its place in your own ministry by joining this six-part webinar series throughout 2023.
URL:https://children.worldea.org/event/webinar-series-2023-community-advocacy-and-care/
LOCATION:Online
END:VEVENT
BEGIN:VEVENT
DTSTART;VALUE=DATE:20230511
DTEND;VALUE=DATE:20230515
DTSTAMP:20260422T035620
CREATED:20230303T201937Z
LAST-MODIFIED:20230303T201937Z
UID:2597-1683763200-1684108799@children.worldea.org
SUMMARY:European Educators' Christian Association Conference 2023
DESCRIPTION:Our educational world is impacted by many difficult issues of our time. Some of these become very sensitive\, strongly political and difficult to navigate. Often we are looking for God’s wisdom and clarity: Should we / can we take a strong stance? Should we try to comply? How can we avoid aggressive debates? We can learn from Jesus and also from the experience and reflection of Christian educators around Europe. In a setting of worship\, teaching and sharing\, we will receive insight for our individual situations.
URL:https://children.worldea.org/event/european-educators-christian-association-conference-2023/
LOCATION:Torre D’Aguilha Seminary Hotel\, Lisbon\, Portugal
END:VEVENT
BEGIN:VEVENT
DTSTART;VALUE=DATE:20230519
DTEND;VALUE=DATE:20230521
DTSTAMP:20260422T035620
CREATED:20230303T195931Z
LAST-MODIFIED:20230304T164355Z
UID:2588-1684454400-1684627199@children.worldea.org
SUMMARY:D6 Asia Family Online Conference ‘RECONNECT’ 2023
DESCRIPTION:The 2023 online Family Conference is aimed at equipping the CHURCH to strengthen families expect to be inspired and learn practical strategies. We also aim to help the HOME\, focusing on strengthen marriages\, improve adult-child relationships and equip to nurture faith in the home. \nThe Church and many Christian families across Asia are struggling to pass on the legacy of faith. The Asia Evangelical Alliance (AEA) has a burden for this and is calling all churches and families to take up the challenge to work together and engage in generational discipleship.
URL:https://children.worldea.org/event/d6-asia-family-online-conference-reconnect-2023/
LOCATION:Online
END:VEVENT
END:VCALENDAR