BEGIN:VCALENDAR
VERSION:2.0
PRODID:-//WEA Children&#039;s Network - ECPv6.15.20//NONSGML v1.0//EN
CALSCALE:GREGORIAN
METHOD:PUBLISH
X-WR-CALNAME:WEA Children&#039;s Network
X-ORIGINAL-URL:https://children.worldea.org
X-WR-CALDESC:Events for WEA Children&#039;s Network
REFRESH-INTERVAL;VALUE=DURATION:PT1H
X-Robots-Tag:noindex
X-PUBLISHED-TTL:PT1H
BEGIN:VTIMEZONE
TZID:America/New_York
BEGIN:DAYLIGHT
TZOFFSETFROM:-0500
TZOFFSETTO:-0400
TZNAME:EDT
DTSTART:20220313T070000
END:DAYLIGHT
BEGIN:STANDARD
TZOFFSETFROM:-0400
TZOFFSETTO:-0500
TZNAME:EST
DTSTART:20221106T060000
END:STANDARD
BEGIN:DAYLIGHT
TZOFFSETFROM:-0500
TZOFFSETTO:-0400
TZNAME:EDT
DTSTART:20230312T070000
END:DAYLIGHT
BEGIN:STANDARD
TZOFFSETFROM:-0400
TZOFFSETTO:-0500
TZNAME:EST
DTSTART:20231105T060000
END:STANDARD
BEGIN:DAYLIGHT
TZOFFSETFROM:-0500
TZOFFSETTO:-0400
TZNAME:EDT
DTSTART:20240310T070000
END:DAYLIGHT
BEGIN:STANDARD
TZOFFSETFROM:-0400
TZOFFSETTO:-0500
TZNAME:EST
DTSTART:20241103T060000
END:STANDARD
END:VTIMEZONE
BEGIN:VEVENT
DTSTART;VALUE=DATE:20230320
DTEND;VALUE=DATE:20230326
DTSTAMP:20260422T082646
CREATED:20230303T193205Z
LAST-MODIFIED:20230303T200519Z
UID:2574-1679270400-1679788799@children.worldea.org
SUMMARY:Global Children’s Forum 2023 Gathering
DESCRIPTION:We are excited to announce the GCF / GoPlay / family.fit meetings which will take place in Farol IBMAlphaville in Brazil from lunchtime on Monday 20th March through to breakfast on Saturday 25th March 2023.
URL:https://children.worldea.org/event/global-childrens-forum-2023-gathering/
LOCATION:Farol IBMAlphaville\, Parque Meia Lua\, Jacareí\, State of São Paulo\, Brazil
END:VEVENT
END:VCALENDAR